BEGIN:VCALENDAR
VERSION:2.0
PRODID:-//We EmpowHER - ECPv6.15.20//NONSGML v1.0//EN
CALSCALE:GREGORIAN
METHOD:PUBLISH
X-WR-CALNAME:We EmpowHER
X-ORIGINAL-URL:https://weempowher.org
X-WR-CALDESC:Events for We EmpowHER
REFRESH-INTERVAL;VALUE=DURATION:PT1H
X-Robots-Tag:noindex
X-PUBLISHED-TTL:PT1H
BEGIN:VTIMEZONE
TZID:America/Chicago
BEGIN:DAYLIGHT
TZOFFSETFROM:-0600
TZOFFSETTO:-0500
TZNAME:CDT
DTSTART:20190310T080000
END:DAYLIGHT
BEGIN:STANDARD
TZOFFSETFROM:-0500
TZOFFSETTO:-0600
TZNAME:CST
DTSTART:20191103T070000
END:STANDARD
BEGIN:DAYLIGHT
TZOFFSETFROM:-0600
TZOFFSETTO:-0500
TZNAME:CDT
DTSTART:20200308T080000
END:DAYLIGHT
BEGIN:STANDARD
TZOFFSETFROM:-0500
TZOFFSETTO:-0600
TZNAME:CST
DTSTART:20201101T070000
END:STANDARD
BEGIN:DAYLIGHT
TZOFFSETFROM:-0600
TZOFFSETTO:-0500
TZNAME:CDT
DTSTART:20210314T080000
END:DAYLIGHT
BEGIN:STANDARD
TZOFFSETFROM:-0500
TZOFFSETTO:-0600
TZNAME:CST
DTSTART:20211107T070000
END:STANDARD
END:VTIMEZONE
BEGIN:VEVENT
DTSTART;TZID=America/Chicago:20200120T173000
DTEND;TZID=America/Chicago:20200120T193000
DTSTAMP:20260424T081215
CREATED:20200108T210014Z
LAST-MODIFIED:20200108T210014Z
UID:204-1579541400-1579548600@weempowher.org
SUMMARY:2020 Series: Session 1 (Closed Group)
DESCRIPTION:
URL:https://weempowher.org/event/2020-series-session-1-closed-group/
CATEGORIES:For Series Participants
END:VEVENT
END:VCALENDAR